BEGIN:VCALENDAR
VERSION:2.0
PRODID:-//Luton Hoo Estate - ECPv6.5.0//NONSGML v1.0//EN
CALSCALE:GREGORIAN
METHOD:PUBLISH
X-ORIGINAL-URL:https://lutonhooestate.co.uk
X-WR-CALDESC:Events for Luton Hoo Estate
REFRESH-INTERVAL;VALUE=DURATION:PT1H
X-Robots-Tag:noindex
X-PUBLISHED-TTL:PT1H
BEGIN:VTIMEZONE
TZID:Europe/London
BEGIN:DAYLIGHT
TZOFFSETFROM:+0000
TZOFFSETTO:+0100
TZNAME:BST
DTSTART:20260329T010000
END:DAYLIGHT
BEGIN:STANDARD
TZOFFSETFROM:+0100
TZOFFSETTO:+0000
TZNAME:GMT
DTSTART:20261025T010000
END:STANDARD
END:VTIMEZONE
BEGIN:VEVENT
DTSTART;TZID=Europe/London:20260807T110000
DTEND;TZID=Europe/London:20260807T150000
DTSTAMP:20260423T055830
CREATED:20260205T150757Z
LAST-MODIFIED:20260205T150757Z
UID:2271-1786100400-1786114800@lutonhooestate.co.uk
SUMMARY:Luton Hoo Estate Walled Garden hosts NGS
DESCRIPTION:National Garden Scheme (NGS) 2026\n* Save the date – 7th August 2026 *\nEvery year we proudly partner with the National Garden Scheme and open the garden gate to raise funds for this incredible charity.\n‘Thanks to the generosity of garden owners\, volunteers and visitors we have donated over £70 million to nursing and health charities and in 2023 made an annual donation of over £3.4 million. Our core beneficiaries include Macmillan Cancer Support\, Marie Curie\, Hospice UK and The Queen’s Nursing Institute.’ NGS\, 2025 \nAll funds raised from the entrance fee to the garden go towards this excellent charity and also introduce a new demographic to our wonderful garden\, as well give another reason for our friends to visit.  Supplementary tours will be available on the day and the Walled Garden Shop will be stocked with whatever the garden has gifted us.  Why not break your visit at the Woodyard café\, or bring a picnic and make a day of it? \nFor more information go to: NGS \nNo need to pre book – Pay at the garden gate
URL:https://lutonhooestate.co.uk/event/luton-hoo-estate-walled-garden-hosts-ngs/
CATEGORIES:Walled Garden Event
ATTACH;FMTTYPE=image/png:https://lutonhooestate.co.uk/wp-content/uploads/2026/02/NGS-square.png
END:VEVENT
BEGIN:VEVENT
DTSTART;TZID=Europe/London:20260918T110000
DTEND;TZID=Europe/London:20260918T150000
DTSTAMP:20260423T055830
CREATED:20260205T151122Z
LAST-MODIFIED:20260205T151122Z
UID:2275-1789729200-1789743600@lutonhooestate.co.uk
SUMMARY:Luton Hoo Estate Walled Garden Heritage Open Day
DESCRIPTION:Heritage Open Day 2026\nThis year we once again join in England’s largest festival of heritage and proudly open the garden gates for visitors to join us FREE OF CHARGE.\n‘Heritage Open Days is England’s largest community led festival of history and culture\, involving thousands of local volunteers and organisations. Every year in September it brings people together to celebrate their heritage\, community and history. Stories are told\, traditions explored\, and histories brought to life. It’s your chance to see hidden places and try out new experiences – and it’s all FREE.’  \n– Heritage Open Days\, 2026 \nParking is free and conveniently located right next to the Walled Garden. We also offer accessible facilities within the garden\, along with plenty of seating options throughout. Dogs on leads accompanied by well behaved owners are welcome to join us for Heritage Open Day. 🙂 \nFor more information: Heritage Open Days
URL:https://lutonhooestate.co.uk/event/luton-hoo-estate-walled-garden-heritage-open-day-2/
CATEGORIES:Walled Garden Event
ATTACH;FMTTYPE=image/png:https://lutonhooestate.co.uk/wp-content/uploads/2026/02/HOD-Square.png
END:VEVENT
END:VCALENDAR